BEGIN:VCALENDAR
VERSION:2.0
PRODID:-//hacksw/handcal//NONSGML v1.0//EN
BEGIN:VEVENT
SUMMARY:CORFOU / MYKONOS 2026
UID:29e26e8f-a927-46be-bfd3-6c290eaeb5d0
DTSTART:20260923T070000Z
DTEND:20261007T150000Z
LOCATION:Localisation   Courfou
CATEGORIES:Manifestation
STATUS:
DESCRIPTION:<p><strong><u>Etape n°11 du projet "Odyssee vers l'Egee"
 GLAZ 2026</u>  </strong></p>
 
 <p>Navigation cotiere et hauturiere
 entre CORFOU et MIKONOS.</p>
 
 <p>Cette navigation s'integre dans le
 programme plus global du projet "Odyssee vers l'Egee".</p>
 
 <p>Les
 conditions financieres sont celles de l'association, elles sont
 definies dans le reglement interieur.</p>
 
 <p>La caisse de bord est a
 prevoir en plus. </p>
 
 <p>Chacun gere son moyen de transport pour se
 rendre au point de depart et repartir du point
 d'arrivee. </p>
 
 <p><strong>N'oubliez pas que le bateau peut
 rencontrer des problemes au cours de son periple (retard, panne) et
 qu'il faut un maximum de flexibilite dans vos moyens de
 transport. </strong></p>
 
 <p><strong>Certaines navigations
 s'effectuent hors CEE et le navire peut etre oblige, pour une raison
 ou une autre, de se derouter. IL EST DONC VIVEMENT RECOMMANDE que
 chaque equipier soit en possession de son passeport en cours de
 validite.</strong></p>
 
 <p><strong>Vous devez imperativement arriver
 a bord le premier jour de la croisiere afin de realiser
 l'avitaillement avec l'ensemble de
 l'equipage.</strong></p>
 
 <p><strong>Vous pouvez dormir a bord la
 nuit apres le dernier jour de navigation.</strong> Il faut prevoir un
 drap par lit de 160 (pas de drap housse car ils ne tiennent pas), une
 taie d'oreiller, un sac de couchage par equipier et une serviette de
 toilette. </p>
 
 <p>Des gilets automatiques sont presents a bord,
 mais vous pouvez prendre les votres si vous preferez. </p>
 
 <p>Il y
 a des longes a bord, mais elles ne sont pas elastiques. Vous pouvez
 prendre les votres si vous le souhaitez.</p>
 
 <p>Au programme :
 navigation, baignade pour les plus courageux, balade et bonne
 rigolade. </p>
 
 <p>Les moments de navigation sont toujours des
 moments privilegies pour partager et ameliorer ses competences a la
 voile. N'hesitez pas a demander aux skippers de vous accompagner dans
 votre progression.</p>
 
 <p>Concernant le reglement, 30% devront etre
 payes au moment de l'inscription et le solde sera a regler au plus
 tard un mois avant le depart, par l'intermediaire d'un appel a
 paiement a faire en ligne. </p>
 
 <p>Vous pouvez si vous le souhaitez
 effectuer le reglement en une seule fois. </p>
URL;VALUE=URI:https://www.glaz-voile-aventure.com/evenements/2026/09/23/corfou-mykonos-2026-2414271
END:VEVENT
END:VCALENDAR
